BEGIN:VCALENDAR
VERSION:2.0
PRODID:-//Museums and Heritage Highland - ECPv6.15.20//NONSGML v1.0//EN
CALSCALE:GREGORIAN
METHOD:PUBLISH
X-WR-CALNAME:Museums and Heritage Highland
X-ORIGINAL-URL:https://museumsandheritagehighland.org.uk
X-WR-CALDESC:Events for Museums and Heritage Highland
REFRESH-INTERVAL;VALUE=DURATION:PT1H
X-Robots-Tag:noindex
X-PUBLISHED-TTL:PT1H
BEGIN:VTIMEZONE
TZID:UTC
BEGIN:STANDARD
TZOFFSETFROM:+0000
TZOFFSETTO:+0000
TZNAME:UTC
DTSTART:20220101T000000
END:STANDARD
END:VTIMEZONE
BEGIN:VEVENT
DTSTART;TZID=UTC:20230420T150000
DTEND;TZID=UTC:20230421T160000
DTSTAMP:20260422T185537
CREATED:20230127T104446Z
LAST-MODIFIED:20230322T163332Z
UID:1450-1682002800-1682092800@museumsandheritagehighland.org.uk
SUMMARY:Sealladh - Highland Heritage Conference
DESCRIPTION:A two day event bringing the Highland Heritage sector together to strengthen the network and create a vision for a positive future. \n\n\n\nA﻿t this conference we aim to bring the network together to strengthen connections\, share successes and challenges\, exchange ideas and explore the skills needed to help the sector thrive into the future. With sessions on skills sharing\, our workforce\, resourcing and collections. \n\n\n\nThis conference is supported through the Museums Galleries Scotland Forum’s Fund project and is made possible with The National Lottery Heritage Fund\, thanks to National Lottery players. \n\n\n\nDay 1 \n\n\n\n3pm Arrival\, coffee\, tea\, networking \n\n\n\n3.45pm Welcome from Dan \n\n\n\n4pm Skills Speed Sharing (chaired by Helen and Nicola) – This first session will be a fun\, kind of ice breaker session\, but also useful in learning about the diversity of skills in the sector\, the needs and wants of the sector and how we bring those two together. \n\n\n\n5pm Project Pecha Kucha – A series of talks from museums across the region on how they have responded to the demands of the last few years and/or on their hopes for the future. Please get in touch if you would like to present a project or topic from your museum. \n\n\n\n6pm Dinner at Velocity \n\n\n\n7.30pm Film Screening – Dùthcas | Home with QandA after (TBC) \n\n\n\nDay 2 \n\n\n\n9am Tea\, coffee\, networking \n\n\n\n9.30am Our People – A panel discussion looking at the museum workforce. How is our workforce changing? What are the current challenges in volunteering? How do we support our staff? Panel chaired by Tamsin Russell with Siobhan Beatson\, Ian Leith + David Bell \n\n\n\n10.15am Workshops to support the Our People session \n\n\n\n1 – Wellbeing in museums (led by Tamsin Russell) \n\n\n\n2 – Succession planning and using digital volunteers (led by David Bell) \n\n\n\n \n\n\n\n11am Tea\, coffee\, networking \n\n\n\n11.30am Resourcing Our Heritage – What’s the current picture? Challenges\, opportunities\, new ideas. Panel includes Gillian Simison MGS\, Megan Braithwaite NLHF\, Katie Mullen (Glencoe Museum and chaired by Ben Thomas. \n\n\n\n12.15pm Workshops to support ROH session \n\n\n\n1 – Capital projects discussion group (led by David Rounce) \n\n\n\n2 – Building a new funding model/innovative income generation (TBC) \n\n\n\n3 – Tourism in the Highlands (with Highland Tourism + Highland Historian) \n\n\n\n1pm LUNCH \n\n\n\n2pm Collections Now – Panel discussion looking at how we approach collecting in the 21st C. How do we ensure our collections are accessible and representive of society today? How do we care for our objects in terms of our capacity (skills\, time\, money)? Chaired by Katey Boal with input from Freya Samuel\, Rachael Thomas\, Abeer Eladany and Peter Knowles. \n\n\n\n2.45pm Workshops to support collections theme \n\n\n\n1 – Decolonisation – Abeer Eladany and Freya Samuel \n\n\n\n2 – Caring for our collections – Rachael Thomas \n\n\n\n3 – Digital engagement opportunities – Peter\, Knowles Smartify \n\n\n\n3.30pm closing remarks from Dan
URL:https://museumsandheritagehighland.org.uk/event/sealladh-highland-heritage-conference
LOCATION:Wasps Inverness Creative Academy\, Midmills Building\, Stephen's Street\, Inverness\, Highlands\, IV2 3JP\, United Kingdom
ATTACH;FMTTYPE=image/jpeg:https://museumsandheritagehighland.org.uk/wp-content/uploads/2023/01/Add-a-heading.jpg
ORGANIZER;CN="MHH":MAILTO:nicola.henderson@museumsandheritagehighland.org.uk
END:VEVENT
END:VCALENDAR