BEGIN:VCALENDAR
VERSION:2.0
PRODID:-//Museums and Heritage Highland - ECPv6.15.20//NONSGML v1.0//EN
CALSCALE:GREGORIAN
METHOD:PUBLISH
X-ORIGINAL-URL:https://museumsandheritagehighland.org.uk
X-WR-CALDESC:Events for Museums and Heritage Highland
REFRESH-INTERVAL;VALUE=DURATION:PT1H
X-Robots-Tag:noindex
X-PUBLISHED-TTL:PT1H
BEGIN:VTIMEZONE
TZID:UTC
BEGIN:STANDARD
TZOFFSETFROM:+0000
TZOFFSETTO:+0000
TZNAME:UTC
DTSTART:20250101T000000
END:STANDARD
END:VTIMEZONE
BEGIN:VEVENT
DTSTART;TZID=UTC:20260129T100000
DTEND;TZID=UTC:20260129T110000
DTSTAMP:20260420T094802
CREATED:20251121T134036Z
LAST-MODIFIED:20251121T134127Z
UID:1878-1769680800-1769684400@museumsandheritagehighland.org.uk
SUMMARY:Heritage Cafe - with Mary Miers
DESCRIPTION:Mary Miers is an experienced journalist who writes about heritage\, the arts and culture. In this discussion\, Mary will share useful tips and guidance on working with the media to help you gain coverage for your latest exhibition or museum project
URL:https://museumsandheritagehighland.org.uk/event/heritage-cafe-with-mary-miers
LOCATION:Zoom\, United States
ORGANIZER;CN="MHH":MAILTO:nicola.henderson@museumsandheritagehighland.org.uk
END:VEVENT
END:VCALENDAR